BEGIN:VCALENDAR
VERSION:2.0
PRODID:-//jEvents 2.0 for Joomla//EN
CALSCALE:GREGORIAN
METHOD:PUBLISH
BEGIN:VEVENT
UID:5c64d6b3a22424b704d4ee7566159af1
CATEGORIES:Termine
CREATED:20220708T101941
SUMMARY:Schulbeginn 2022
DESCRIPTION:08:00 Uhr Klasseneinweisung und Unterrichtsbeginn\n schriftliche Wiederholu
 ngsprüfungen und Nachtragsprüfungen\n mündliche Wiederholungsprüfungen\n
X-ALT-DESC;FMTTYPE=text/html:<p>08:00 Uhr Klasseneinweisung und Unterrichtsbeginn<br /> schriftliche Wie
 derholungsprüfungen und Nachtragsprüfungen<br /> mündliche Wiederholungsprü
 fungen</p>
DTSTAMP:20260425T222100
DTSTART:20220912T060000
SEQUENCE:0
TRANSP:OPAQUE
END:VEVENT
END:VCALENDAR