BEGIN:VCALENDAR
VERSION:2.0
PRODID:-//jEvents 2.0 for Joomla//EN
CALSCALE:GREGORIAN
METHOD:PUBLISH
BEGIN:VEVENT
UID:df3e1af0d22bfc7e0d7f24ce98b904e5
CATEGORIES:Veranstaltungen
CREATED:20220615T114311
SUMMARY:Wandertag
DESCRIPTION:
DTSTAMP:20260426T000340
DTSTART:20220706T060000
DTEND:20220706T100000
SEQUENCE:0
TRANSP:OPAQUE
END:VEVENT
END:VCALENDAR