BEGIN:VCALENDAR
VERSION:2.0
PRODID:-//jEvents 2.0 for Joomla//EN
CALSCALE:GREGORIAN
METHOD:PUBLISH
BEGIN:VEVENT
UID:5053742aa5915163f6208183008a294b
CATEGORIES:Veranstaltungen
CREATED:20220615T114136
SUMMARY:Wirtschafts- oder Kulturtag
DESCRIPTION:
DTSTAMP:20260426T013233
DTSTART:20220705T060000
DTEND:20220705T100000
SEQUENCE:0
TRANSP:OPAQUE
END:VEVENT
END:VCALENDAR