BEGIN:VCALENDAR
VERSION:2.0
PRODID:-//jEvents 2.0 for Joomla//EN
CALSCALE:GREGORIAN
METHOD:PUBLISH
BEGIN:VEVENT
UID:16a7755ac6792a244d09e86638f42bb5
CATEGORIES:Veranstaltungen
CREATED:20220615T114107
SUMMARY:Wirtschafts- oder Kulturtag
DESCRIPTION:
DTSTAMP:20260426T013925
DTSTART:20220704T060000
DTEND:20220704T100000
SEQUENCE:0
TRANSP:OPAQUE
END:VEVENT
END:VCALENDAR