BEGIN:VCALENDAR
VERSION:2.0
PRODID:-//jEvents 2.0 for Joomla//EN
CALSCALE:GREGORIAN
METHOD:PUBLISH
BEGIN:VEVENT
UID:fe75b29ea206e365d89186e1c1563a9f
CATEGORIES:Veranstaltungen
CREATED:20220615T113656
SUMMARY:Eröffnungsgottesdienst in der Breitenwanger Kirche
DESCRIPTION:
DTSTAMP:20260426T000025
DTSTART:20220914T060000
DTEND:20220914T070000
SEQUENCE:0
TRANSP:OPAQUE
END:VEVENT
END:VCALENDAR