BEGIN:VCALENDAR
VERSION:2.0
PRODID:-//jEvents 2.0 for Joomla//EN
CALSCALE:GREGORIAN
METHOD:PUBLISH
BEGIN:VEVENT
UID:63c43660d66feeaadee7b0f90e72ee51
CATEGORIES:Veranstaltungen
CREATED:20220615T113622
SUMMARY:Abschlussgottesdienst in der Breitenwanger Kirche
DESCRIPTION:
DTSTAMP:20260426T000030
DTSTART:20220708T060000
DTEND:20220708T070000
SEQUENCE:0
TRANSP:OPAQUE
END:VEVENT
END:VCALENDAR