BEGIN:VCALENDAR
VERSION:2.0
PRODID:-//jEvents 2.0 for Joomla//EN
CALSCALE:GREGORIAN
METHOD:PUBLISH
BEGIN:VEVENT
UID:43a94267fd1363b74d823ffd47d1d4e7
CATEGORIES:Veranstaltungen
CREATED:20220531T082040
SUMMARY:Kennenlerntage für neue SchülerInnen der HAK für das Schuljahr 2022/23
DESCRIPTION:
DTSTAMP:20260425T224225
DTSTART:20220627T060000
DTEND:20220627T094500
SEQUENCE:0
TRANSP:OPAQUE
END:VEVENT
END:VCALENDAR