BEGIN:VCALENDAR
VERSION:2.0
PRODID:-//jEvents 2.0 for Joomla//EN
CALSCALE:GREGORIAN
METHOD:PUBLISH
BEGIN:VEVENT
UID:7fdf93c2c4fd3d089366d401dc48112c
CATEGORIES:Veranstaltungen
CREATED:20220523T133344
SUMMARY:Exkursion der 1.HTL-Klassen nach Linz
DESCRIPTION:
DTSTAMP:20260426T000341
DTSTART:20220704T060000
DTEND:20220705T150000
SEQUENCE:0
TRANSP:OPAQUE
END:VEVENT
END:VCALENDAR