BEGIN:VCALENDAR
VERSION:2.0
PRODID:-//jEvents 2.0 for Joomla//EN
CALSCALE:GREGORIAN
METHOD:PUBLISH
BEGIN:VEVENT
UID:31ac4dbaf1edab2d08e68697727126c1
CATEGORIES:Veranstaltungen
CREATED:20220523T132729
SUMMARY:halbtägiger Wandertag 3wa und 3wb
DESCRIPTION:
DTSTAMP:20260425T222416
DTSTART:20220530T060000
DTEND:20220530T110000
SEQUENCE:0
TRANSP:OPAQUE
END:VEVENT
END:VCALENDAR