BEGIN:VCALENDAR
VERSION:2.0
PRODID:-//jEvents 2.0 for Joomla//EN
CALSCALE:GREGORIAN
METHOD:PUBLISH
BEGIN:VEVENT
UID:22d3a201a18b93fa5a7090cab0cb8eb9
CATEGORIES:Veranstaltungen
CREATED:20220523T104133
SUMMARY:Sportwoche 2.Klassen HAK und HTL
DESCRIPTION:
DTSTAMP:20260426T000401
DTSTART:20220607T060000
DTEND:20220611T150000
SEQUENCE:0
TRANSP:OPAQUE
END:VEVENT
END:VCALENDAR