BEGIN:VCALENDAR
VERSION:2.0
PRODID:-//jEvents 2.0 for Joomla//EN
CALSCALE:GREGORIAN
METHOD:PUBLISH
BEGIN:VEVENT
UID:79db7c9f6de15f09458ad0b6344dcc54
CATEGORIES:Veranstaltungen
CREATED:20220520T092614
SUMMARY:Tanzsommer Kongresshaus Innsbruck
DESCRIPTION:
DTSTAMP:20260425T223922
DTSTART:20220629T060000
DTEND:20220629T150000
SEQUENCE:0
TRANSP:OPAQUE
END:VEVENT
END:VCALENDAR