BEGIN:VCALENDAR
VERSION:2.0
PRODID:-//jEvents 2.0 for Joomla//EN
CALSCALE:GREGORIAN
METHOD:PUBLISH
BEGIN:VEVENT
UID:8d802bfc0e1b36afb61bad4c5a1b5c53
CATEGORIES:Veranstaltungen
CREATED:20220509T075837
SUMMARY:SGA-Sitzung HAK
DESCRIPTION:
DTSTAMP:20260425T204347
DTSTART:20220519T133000
DTEND:20220519T150000
SEQUENCE:0
TRANSP:OPAQUE
END:VEVENT
END:VCALENDAR