BEGIN:VCALENDAR
VERSION:2.0
PRODID:-//jEvents 2.0 for Joomla//EN
CALSCALE:GREGORIAN
METHOD:PUBLISH
BEGIN:VEVENT
UID:869471e7da7f0ba4ac853cd0a789237d
CATEGORIES:Veranstaltungen
CREATED:20220509T075809
SUMMARY:SGA-Sitzung HLW
DESCRIPTION:
DTSTAMP:20260425T203916
DTSTART:20220519T120000
DTEND:20220519T130000
SEQUENCE:0
TRANSP:OPAQUE
END:VEVENT
END:VCALENDAR