BEGIN:VCALENDAR
VERSION:2.0
PRODID:-//jEvents 2.0 for Joomla//EN
CALSCALE:GREGORIAN
METHOD:PUBLISH
BEGIN:VEVENT
UID:3e9cfa4c0dc79215261ed4c7de3e8229
CATEGORIES:Veranstaltungen
CREATED:20220502T091531
SUMMARY:Exkursion Bezirksgericht Reutte 4a
DESCRIPTION:
DTSTAMP:20260425T204249
DTSTART:20220510T065500
DTEND:20220510T113500
SEQUENCE:0
TRANSP:OPAQUE
END:VEVENT
END:VCALENDAR