BEGIN:VCALENDAR
VERSION:2.0
PRODID:-//jEvents 2.0 for Joomla//EN
CALSCALE:GREGORIAN
METHOD:PUBLISH
BEGIN:VEVENT
UID:ed6ecdfd732e9a5968a72f73fc954c6e
CATEGORIES:Veranstaltungen
CREATED:20220502T091453
SUMMARY:Vortrag AVOMED 2wa und 2wb
DESCRIPTION:
DTSTAMP:20260425T204042
DTSTART:20220505T065500
DTEND:20220505T084000
SEQUENCE:0
TRANSP:OPAQUE
END:VEVENT
END:VCALENDAR