BEGIN:VCALENDAR
VERSION:2.0
PRODID:-//jEvents 2.0 for Joomla//EN
CALSCALE:GREGORIAN
METHOD:PUBLISH
BEGIN:VEVENT
UID:1cb455a0604b925442144abf5adc3c68
CATEGORIES:Veranstaltungen
CREATED:20220502T091404
SUMMARY:Vortrag AVOMED 3wa
DESCRIPTION:
DTSTAMP:20260425T204136
DTSTART:20220504T085500
DTEND:20220504T104000
SEQUENCE:0
TRANSP:OPAQUE
END:VEVENT
END:VCALENDAR