BEGIN:VCALENDAR
VERSION:2.0
PRODID:-//jEvents 2.0 for Joomla//EN
CALSCALE:GREGORIAN
METHOD:PUBLISH
BEGIN:VEVENT
UID:ec57330bc969d105e9848905dfdd8945
CATEGORIES:Veranstaltungen
CREATED:20220502T091316
SUMMARY:Vortrag AVOMED 3wb
DESCRIPTION:
DTSTAMP:20260425T204253
DTSTART:20220504T065500
DTEND:20220504T084000
SEQUENCE:0
TRANSP:OPAQUE
END:VEVENT
END:VCALENDAR