BEGIN:VCALENDAR
VERSION:2.0
PRODID:-//jEvents 2.0 for Joomla//EN
CALSCALE:GREGORIAN
METHOD:PUBLISH
BEGIN:VEVENT
UID:fa0311ef18ebccb6d4d9a04739ceb83b
CATEGORIES:Veranstaltungen
CREATED:20220425T132535
SUMMARY:Vorstellung der Schulärztin Dr. Susanne Lechner und der Schulpsychologin Mag. Linda Siebenhüner in allen Klassen
DESCRIPTION:
DTSTAMP:20260425T203048
DTSTART:20220427T060000
DTEND:20220427T090000
SEQUENCE:0
TRANSP:OPAQUE
END:VEVENT
END:VCALENDAR