BEGIN:VCALENDAR
VERSION:2.0
PRODID:-//jEvents 2.0 for Joomla//EN
CALSCALE:GREGORIAN
METHOD:PUBLISH
BEGIN:VEVENT
UID:69def41213ef8cee853eaca1295486cc
CATEGORIES:Veranstaltungen
CREATED:20220425T132347
SUMMARY:Workshop NAWI 4wa, 4wb 
DESCRIPTION:
DTSTAMP:20260425T185514
DTSTART:20220429T060000
DTEND:20220429T110000
SEQUENCE:0
TRANSP:OPAQUE
END:VEVENT
END:VCALENDAR