BEGIN:VCALENDAR
VERSION:2.0
PRODID:-//jEvents 2.0 for Joomla//EN
CALSCALE:GREGORIAN
METHOD:PUBLISH
BEGIN:VEVENT
UID:e7226dc7f5759e0a723b8d4de2df0648
CATEGORIES:Veranstaltungen
CREATED:20220420T081727
SUMMARY:Besuch KZ-Gedenkstätte in Dachau 4wa,4wb,4a und 3s
DESCRIPTION:
DTSTAMP:20260425T203916
DTSTART:20220502T060000
DTEND:20220502T150000
SEQUENCE:0
TRANSP:OPAQUE
END:VEVENT
END:VCALENDAR