BEGIN:VCALENDAR
VERSION:2.0
PRODID:-//jEvents 2.0 for Joomla//EN
CALSCALE:GREGORIAN
METHOD:PUBLISH
BEGIN:VEVENT
UID:b9ffc116701ca53cc8e0afd2ba36eae7
CATEGORIES:Veranstaltungen
CREATED:20220404T114416
SUMMARY:pädagogische Konferenz
DESCRIPTION:
DTSTAMP:20260425T204011
DTSTART:20220420T140000
DTEND:20220420T160000
SEQUENCE:0
TRANSP:OPAQUE
END:VEVENT
END:VCALENDAR