BEGIN:VCALENDAR
VERSION:2.0
PRODID:-//jEvents 2.0 for Joomla//EN
CALSCALE:GREGORIAN
METHOD:PUBLISH
BEGIN:VEVENT
UID:40b6e9cbf2d39b2e179c168cae667634
CATEGORIES:Veranstaltungen
CREATED:20220404T103148
SUMMARY:Theaterworkshop in der Kellerei 1wa,1wb,1a
DESCRIPTION:
DTSTAMP:20260425T185316
DTSTART:20220420T060000
DTEND:20220420T113000
SEQUENCE:0
TRANSP:OPAQUE
END:VEVENT
END:VCALENDAR