BEGIN:VCALENDAR
VERSION:2.0
PRODID:-//jEvents 2.0 for Joomla//EN
CALSCALE:GREGORIAN
METHOD:PUBLISH
BEGIN:VEVENT
UID:c667b6cb70c10b58a1769089796afa21
CATEGORIES:Veranstaltungen
CREATED:20220404T101739
SUMMARY:Sportwoche 2. Klassen HLW
DESCRIPTION:
DTSTAMP:20260426T001355
DTSTART:20220703T060000
DTEND:20220707T150000
SEQUENCE:0
TRANSP:OPAQUE
END:VEVENT
END:VCALENDAR