BEGIN:VCALENDAR
VERSION:2.0
PRODID:-//jEvents 2.0 for Joomla//EN
CALSCALE:GREGORIAN
METHOD:PUBLISH
BEGIN:VEVENT
UID:d2065fc5c177bb8825c7a397523648d7
CATEGORIES:Veranstaltungen
CREATED:20220404T101634
SUMMARY:Sprachreise San Remo 4wa 4wb
DESCRIPTION:
DTSTAMP:20260426T000230
DTSTART:20220703T060000
DTEND:20220703T150000
SEQUENCE:0
TRANSP:OPAQUE
END:VEVENT
END:VCALENDAR