BEGIN:VCALENDAR
VERSION:2.0
PRODID:-//jEvents 2.0 for Joomla//EN
CALSCALE:GREGORIAN
METHOD:PUBLISH
BEGIN:VEVENT
UID:dab71ef612b761d844f9b7ca02e5ba4c
CATEGORIES:Veranstaltungen
CREATED:20220328T142510
SUMMARY:Cocktailseminar 3wb
DESCRIPTION:
DTSTAMP:20260425T185259
DTSTART:20220407T110000
DTEND:20220407T150000
SEQUENCE:0
TRANSP:OPAQUE
END:VEVENT
END:VCALENDAR