BEGIN:VCALENDAR
VERSION:2.0
PRODID:-//jEvents 2.0 for Joomla//EN
CALSCALE:GREGORIAN
METHOD:PUBLISH
BEGIN:VEVENT
UID:771f8ed8da9db85668be11ddec153460
CATEGORIES:Veranstaltungen
CREATED:20220328T142442
SUMMARY:Cocktailseminar 3wa
DESCRIPTION:
DTSTAMP:20260425T203333
DTSTART:20220407T070000
DTEND:20220407T110000
SEQUENCE:0
TRANSP:OPAQUE
END:VEVENT
END:VCALENDAR