BEGIN:VCALENDAR
VERSION:2.0
PRODID:-//jEvents 2.0 for Joomla//EN
CALSCALE:GREGORIAN
METHOD:PUBLISH
BEGIN:VEVENT
UID:503074a58f08a2c8c790d572a517fff3
CATEGORIES:Veranstaltungen
CREATED:20220328T134556
SUMMARY:Redewettbewerb in der Wirtschaftskammer
DESCRIPTION:
DTSTAMP:20260425T185316
DTSTART:20220406T153000
DTEND:20220406T190000
SEQUENCE:0
TRANSP:OPAQUE
END:VEVENT
END:VCALENDAR