BEGIN:VCALENDAR
VERSION:2.0
PRODID:-//jEvents 2.0 for Joomla//EN
CALSCALE:GREGORIAN
METHOD:PUBLISH
BEGIN:VEVENT
UID:329402968c7055844857d28aa43d33a8
CATEGORIES:Veranstaltungen
CREATED:20220316T134412
SUMMARY:Präsentationen Abschlussarbeiten 3s
DESCRIPTION:
DTSTAMP:20260425T203851
DTSTART:20220317T070000
DTEND:20220317T110000
SEQUENCE:0
TRANSP:OPAQUE
END:VEVENT
END:VCALENDAR