BEGIN:VCALENDAR
VERSION:2.0
PRODID:-//jEvents 2.0 for Joomla//EN
CALSCALE:GREGORIAN
METHOD:PUBLISH
BEGIN:VEVENT
UID:d60354d8cc385c28f029bf9bae70fa56
CATEGORIES:Veranstaltungen
CREATED:20220316T134214
SUMMARY:Kinder- und Säuglingsnotfallkurs 3wb
DESCRIPTION:
DTSTAMP:20260425T204334
DTSTART:20220324T131000
DTEND:20220324T163000
SEQUENCE:0
TRANSP:OPAQUE
END:VEVENT
END:VCALENDAR