BEGIN:VCALENDAR
VERSION:2.0
PRODID:-//jEvents 2.0 for Joomla//EN
CALSCALE:GREGORIAN
METHOD:PUBLISH
BEGIN:VEVENT
UID:9cc165b5c8bb05ca1db74586566fc641
CATEGORIES:Veranstaltungen
CREATED:20220316T134135
SUMMARY:Kinder- und Säuglingsnotfallkurs 3wa
DESCRIPTION:
DTSTAMP:20260425T204109
DTSTART:20220330T121000
DTEND:20220330T153000
SEQUENCE:0
TRANSP:OPAQUE
END:VEVENT
END:VCALENDAR