BEGIN:VCALENDAR
VERSION:2.0
PRODID:-//jEvents 2.0 for Joomla//EN
CALSCALE:GREGORIAN
METHOD:PUBLISH
BEGIN:VEVENT
UID:41e9f496466d133f7e8f341722873cd9
CATEGORIES:Veranstaltungen
CREATED:20220314T141940
SUMMARY:2. Elternsprechtag - virtuell
DESCRIPTION:
DTSTAMP:20260425T203914
DTSTART:20220407T143000
DTEND:20220407T173000
SEQUENCE:0
TRANSP:OPAQUE
END:VEVENT
END:VCALENDAR