BEGIN:VCALENDAR
VERSION:2.0
PRODID:-//jEvents 2.0 for Joomla//EN
CALSCALE:GREGORIAN
METHOD:PUBLISH
BEGIN:VEVENT
UID:985117d0355aba444b827f50f7d8090f
CATEGORIES:Veranstaltungen
CREATED:20220302T105158
SUMMARY:Schüleraustausch Cles digital
DESCRIPTION:
DTSTAMP:20260425T204156
DTSTART:20220307T070000
DTEND:20220311T084500
SEQUENCE:0
TRANSP:OPAQUE
END:VEVENT
END:VCALENDAR