BEGIN:VCALENDAR
VERSION:2.0
PRODID:-//jEvents 2.0 for Joomla//EN
CALSCALE:GREGORIAN
METHOD:PUBLISH
BEGIN:VEVENT
UID:95fe9b9f6c288fd9203bb3fb90d7e7f9
CATEGORIES:Veranstaltungen
CREATED:20220131T100453
SUMMARY:Konferenz HAK/HAS/HLW 1.Semester 2021/22 - digital
DESCRIPTION:
DTSTAMP:20260425T204522
DTSTART:20220208T133000
DTEND:20220208T160000
SEQUENCE:0
TRANSP:OPAQUE
END:VEVENT
END:VCALENDAR