BEGIN:VCALENDAR
VERSION:2.0
PRODID:-//jEvents 2.0 for Joomla//EN
CALSCALE:GREGORIAN
METHOD:PUBLISH
BEGIN:VEVENT
UID:b538dbd1713cf98a5440b861e6b2a515
CATEGORIES:Veranstaltungen
CREATED:20211223T084629
SUMMARY:schulautonom frei
DESCRIPTION:
DTSTAMP:20260425T222059
DTSTART:20220607T060000
DTEND:20220607T150000
SEQUENCE:0
TRANSP:OPAQUE
END:VEVENT
END:VCALENDAR