BEGIN:VCALENDAR
VERSION:2.0
PRODID:-//jEvents 2.0 for Joomla//EN
CALSCALE:GREGORIAN
METHOD:PUBLISH
BEGIN:VEVENT
UID:94906cd5ffad5d8c579fc2a8e261dcdd
CATEGORIES:Veranstaltungen
CREATED:20211202T151620
SUMMARY:Schulführung HAK/HLW und HTL
DESCRIPTION:14 Jahre - was nun? \nWir bieten im Dezember und Januar Schulführungen für 
 dich und deine Eltern an!\nWir stellen dabei dir und deinen Eltern die HAK,
  HLW und HTL vor und bieten euch dabei neben allgemeinen Informationen über
  die Schule bzw. die Ausbildungsmöglichkeiten auch eine Schulführung vor Or
 t an.\nDanach stehen wir für Fragen gerne zur Verfügung.\nAufgrund der derz
 eitigen "Corona-Situation" achten wir dabei auf die vorgeschriebenen Abstan
 ds- und Hygienerichtlinien (bitte FFP2-Maske mitnehmen) und heißen deshalb 
 pro Führung max. 10 Personen gleichzeitig willkommen. Wir bitten dich und d
 eine Eltern einen 3G Nachweis mitzuführen.\nWir bitten weiters um telefonis
 che Voranmeldung oder EMAIL  (mailto:hak-hlw-reutte@tsn.at)Diese E-Mail-Adr
 esse ist vor Spambots geschützt! Zur Anzeige muss JavaScript eingeschaltet 
 sein!
				document.getElementById('cloakffae2e8b740ef4b22741248aa8cbc7f3').
 innerHTML = '';
				var prefix = '&#109;a' + 'i&#108;' + '&#116;o';
				var
  path = 'hr' + 'ef' + '=';
				var addyffae2e8b740ef4b22741248aa8cbc7f3 = '
 h&#97;k-hlw-r&#101;&#117;tt&#101;' + '&#64;';
				addyffae2e8b740ef4b227412
 48aa8cbc7f3 = addyffae2e8b740ef4b22741248aa8cbc7f3 + 'tsn' + '&#46;' + '&#9
 7;t';
				var addy_textffae2e8b740ef4b22741248aa8cbc7f3 = 'h&#97;k-hlw-r&#1
 01;&#117;tt&#101;' + '&#64;' + 'tsn' + '&#46;' + '&#97;t';document.getEleme
 ntById('cloakffae2e8b740ef4b22741248aa8cbc7f3').innerHTML += '<a ' + path +
  '\'' + prefix + ':' + addyffae2e8b740ef4b22741248aa8cbc7f3 + '\'>'+addy_te
 xtffae2e8b740ef4b22741248aa8cbc7f3+'';
		 !\n
X-ALT-DESC;FMTTYPE=text/html:<p><strong>14 Jahre - was nun? </strong></p><p><strong>Wir bieten im Dezemb
 er und Januar Schulführungen für dich und deine Eltern an!</strong></p><p>W
 ir stellen dabei dir und deinen Eltern die HAK, HLW und HTL vor und bieten 
 euch dabei neben allgemeinen Informationen über die Schule bzw. die Ausbild
 ungsmöglichkeiten auch eine <strong>Schulführung vor Ort</strong> an.</p><p
 >Danach stehen wir für Fragen gerne zur Verfügung.</p><p>Aufgrund der derze
 itigen "Corona-Situation" achten wir dabei auf die vorgeschriebenen Abstand
 s- und Hygienerichtlinien (bitte FFP2-Maske mitnehmen) und heißen deshalb <
 strong>pro Führung max. 10 Personen</strong> gleichzeitig willkommen. Wir b
 itten dich und deine Eltern einen 3G Nachweis mitzuführen.</p><p>Wir bitten
  weiters um telefonische <strong>Voranmeldung</strong> oder <strong>EMAIL <
 span id="cloak337e890d77dc191d9bd288679329405a"><a href="mailto:hak-hlw-reu
 tte@tsn.at"></a><span id="cloakffae2e8b740ef4b22741248aa8cbc7f3">Diese E-Ma
 il-Adresse ist vor Spambots geschützt! Zur Anzeige muss JavaScript eingesch
 altet sein!</span><script type='text/javascript'>
				document.getElementBy
 Id('cloakffae2e8b740ef4b22741248aa8cbc7f3').innerHTML = '';
				var prefix 
 = '&#109;a' + 'i&#108;' + '&#116;o';
				var path = 'hr' + 'ef' + '=';
				
 var addyffae2e8b740ef4b22741248aa8cbc7f3 = 'h&#97;k-hlw-r&#101;&#117;tt&#10
 1;' + '&#64;';
				addyffae2e8b740ef4b22741248aa8cbc7f3 = addyffae2e8b740ef
 4b22741248aa8cbc7f3 + 'tsn' + '&#46;' + '&#97;t';
				var addy_textffae2e8b
 740ef4b22741248aa8cbc7f3 = 'h&#97;k-hlw-r&#101;&#117;tt&#101;' + '&#64;' + 
 'tsn' + '&#46;' + '&#97;t';document.getElementById('cloakffae2e8b740ef4b227
 41248aa8cbc7f3').innerHTML += '<a ' + path + '\'' + prefix + ':' + addyffae
 2e8b740ef4b22741248aa8cbc7f3 + '\'>'+addy_textffae2e8b740ef4b22741248aa8cbc
 7f3+'<\/a>';
		</script></span> !</strong></p>
DTSTAMP:20260425T171041
DTSTART:20220128T180000
DTEND:20220128T190000
SEQUENCE:0
TRANSP:OPAQUE
END:VEVENT
END:VCALENDAR