BEGIN:VCALENDAR
VERSION:2.0
PRODID:-//jEvents 2.0 for Joomla//EN
CALSCALE:GREGORIAN
METHOD:PUBLISH
BEGIN:VEVENT
UID:b7941bc1394a1272ebe62e21d8f18fb4
CATEGORIES:Veranstaltungen
CREATED:20211202T151345
SUMMARY:Schulführung HAK/HLW und HTL
DESCRIPTION:<p><strong>14 Jahre - was nun? </strong></p><p><strong>Wir bieten im Dezemb
 er und Januar Schulführungen für dich und deine Eltern an!</strong></p><p>W
 ir stellen dabei dir und deinen Eltern die HAK, HLW und HTL vor und bieten 
 euch dabei neben allgemeinen Informationen über die Schule bzw. die Ausbild
 ungsmöglichkeiten auch eine <strong>Schulführung vor Ort</strong> an.</p><p
 >Danach stehen wir für Fragen gerne zur Verfügung.</p><p>Aufgrund der derze
 itigen "Corona-Situation" achten wir dabei auf die vorgeschriebenen Abstand
 s- und Hygienerichtlinien (bitte FFP2-Maske mitnehmen) und heißen deshalb <
 strong>pro Führung max. 10 Personen</strong> gleichzeitig willkommen. Wir b
 itten dich und deine Eltern einen 3G Nachweis mitzuführen.</p><p>Wir bitten
  weiters um telefonische <strong>Voranmeldung</strong> oder <strong>EMAIL <
 span id="cloak337e890d77dc191d9bd288679329405a"><a href="mailto:hak-hlw-reu
 tte@tsn.at"></a><span id="cloak63e1b15193acca9a4c12154b8b7397c2">Diese E-Ma
 il-Adresse ist vor Spambots geschützt! Zur Anzeige muss JavaScript eingesch
 altet sein!</span><script type='text/javascript'>
				document.getElementBy
 Id('cloak63e1b15193acca9a4c12154b8b7397c2').innerHTML = '';
				var prefix 
 = '&#109;a' + 'i&#108;' + '&#116;o';
				var path = 'hr' + 'ef' + '=';
				
 var addy63e1b15193acca9a4c12154b8b7397c2 = 'h&#97;k-hlw-r&#101;&#117;tt&#10
 1;' + '&#64;';
				addy63e1b15193acca9a4c12154b8b7397c2 = addy63e1b15193acc
 a9a4c12154b8b7397c2 + 'tsn' + '&#46;' + '&#97;t';
				var addy_text63e1b151
 93acca9a4c12154b8b7397c2 = 'h&#97;k-hlw-r&#101;&#117;tt&#101;' + '&#64;' + 
 'tsn' + '&#46;' + '&#97;t';document.getElementById('cloak63e1b15193acca9a4c
 12154b8b7397c2').innerHTML += '<a ' + path + '\'' + prefix + ':' + addy63e1
 b15193acca9a4c12154b8b7397c2 + '\'>'+addy_text63e1b15193acca9a4c12154b8b739
 7c2+'<\/a>';
		</script></span> !</strong></p>
DTSTAMP:20260425T171501
DTSTART:20220110T170000
DTEND:20220110T180000
SEQUENCE:0
TRANSP:OPAQUE
END:VEVENT
END:VCALENDAR