BEGIN:VCALENDAR
VERSION:2.0
PRODID:-//jEvents 2.0 for Joomla//EN
CALSCALE:GREGORIAN
METHOD:PUBLISH
BEGIN:VEVENT
UID:f21c1dec54b6cde77beadf45b211fb91
CATEGORIES:Veranstaltungen
CREATED:20211202T151248
SUMMARY:Schulführung HAK/HLW und HTL
DESCRIPTION:14 Jahre - was nun? \nWir bieten im Dezember und Januar Schulführungen für 
 dich und deine Eltern an!\nWir stellen dabei dir und deinen Eltern die HAK,
  HLW und HTL vor und bieten euch dabei neben allgemeinen Informationen über
  die Schule bzw. die Ausbildungsmöglichkeiten auch eine Schulführung vor Or
 t an.\nDanach stehen wir für Fragen gerne zur Verfügung.\nAufgrund der derz
 eitigen "Corona-Situation" achten wir dabei auf die vorgeschriebenen Abstan
 ds- und Hygienerichtlinien (bitte FFP2-Maske mitnehmen) und heißen deshalb 
 pro Führung max. 10 Personen gleichzeitig willkommen. Wir bitten dich und d
 eine Eltern einen 3G Nachweis mitzuführen.\nWir bitten weiters um telefonis
 che Voranmeldung oder EMAIL  (mailto:hak-hlw-reutte@tsn.at)Diese E-Mail-Adr
 esse ist vor Spambots geschützt! Zur Anzeige muss JavaScript eingeschaltet 
 sein!
				document.getElementById('cloak83246b9de67dcbd79d9bef55adaf9f0f').
 innerHTML = '';
				var prefix = '&#109;a' + 'i&#108;' + '&#116;o';
				var
  path = 'hr' + 'ef' + '=';
				var addy83246b9de67dcbd79d9bef55adaf9f0f = '
 h&#97;k-hlw-r&#101;&#117;tt&#101;' + '&#64;';
				addy83246b9de67dcbd79d9be
 f55adaf9f0f = addy83246b9de67dcbd79d9bef55adaf9f0f + 'tsn' + '&#46;' + '&#9
 7;t';
				var addy_text83246b9de67dcbd79d9bef55adaf9f0f = 'h&#97;k-hlw-r&#1
 01;&#117;tt&#101;' + '&#64;' + 'tsn' + '&#46;' + '&#97;t';document.getEleme
 ntById('cloak83246b9de67dcbd79d9bef55adaf9f0f').innerHTML += '<a ' + path +
  '\'' + prefix + ':' + addy83246b9de67dcbd79d9bef55adaf9f0f + '\'>'+addy_te
 xt83246b9de67dcbd79d9bef55adaf9f0f+'';
		 !\n
X-ALT-DESC;FMTTYPE=text/html:<p><strong>14 Jahre - was nun? </strong></p><p><strong>Wir bieten im Dezemb
 er und Januar Schulführungen für dich und deine Eltern an!</strong></p><p>W
 ir stellen dabei dir und deinen Eltern die HAK, HLW und HTL vor und bieten 
 euch dabei neben allgemeinen Informationen über die Schule bzw. die Ausbild
 ungsmöglichkeiten auch eine <strong>Schulführung vor Ort</strong> an.</p><p
 >Danach stehen wir für Fragen gerne zur Verfügung.</p><p>Aufgrund der derze
 itigen "Corona-Situation" achten wir dabei auf die vorgeschriebenen Abstand
 s- und Hygienerichtlinien (bitte FFP2-Maske mitnehmen) und heißen deshalb <
 strong>pro Führung max. 10 Personen</strong> gleichzeitig willkommen. Wir b
 itten dich und deine Eltern einen 3G Nachweis mitzuführen.</p><p>Wir bitten
  weiters um telefonische <strong>Voranmeldung</strong> oder <strong>EMAIL <
 span id="cloak337e890d77dc191d9bd288679329405a"><a href="mailto:hak-hlw-reu
 tte@tsn.at"></a><span id="cloak83246b9de67dcbd79d9bef55adaf9f0f">Diese E-Ma
 il-Adresse ist vor Spambots geschützt! Zur Anzeige muss JavaScript eingesch
 altet sein!</span><script type='text/javascript'>
				document.getElementBy
 Id('cloak83246b9de67dcbd79d9bef55adaf9f0f').innerHTML = '';
				var prefix 
 = '&#109;a' + 'i&#108;' + '&#116;o';
				var path = 'hr' + 'ef' + '=';
				
 var addy83246b9de67dcbd79d9bef55adaf9f0f = 'h&#97;k-hlw-r&#101;&#117;tt&#10
 1;' + '&#64;';
				addy83246b9de67dcbd79d9bef55adaf9f0f = addy83246b9de67dc
 bd79d9bef55adaf9f0f + 'tsn' + '&#46;' + '&#97;t';
				var addy_text83246b9d
 e67dcbd79d9bef55adaf9f0f = 'h&#97;k-hlw-r&#101;&#117;tt&#101;' + '&#64;' + 
 'tsn' + '&#46;' + '&#97;t';document.getElementById('cloak83246b9de67dcbd79d
 9bef55adaf9f0f').innerHTML += '<a ' + path + '\'' + prefix + ':' + addy8324
 6b9de67dcbd79d9bef55adaf9f0f + '\'>'+addy_text83246b9de67dcbd79d9bef55adaf9
 f0f+'<\/a>';
		</script></span> !</strong></p>
DTSTAMP:20260425T203835
DTSTART:20211220T180000
DTEND:20211220T190000
SEQUENCE:0
TRANSP:OPAQUE
END:VEVENT
END:VCALENDAR