BEGIN:VCALENDAR
VERSION:2.0
PRODID:-//jEvents 2.0 for Joomla//EN
CALSCALE:GREGORIAN
METHOD:PUBLISH
BEGIN:VEVENT
UID:6de4843556d3ac296422e422f69fd34b
CATEGORIES:Veranstaltungen
CREATED:20211202T150905
SUMMARY:Schulführung HAK/HLW und HTL
DESCRIPTION:<p><strong>14 Jahre - was nun? </strong></p><p><strong>Wir bieten im Dezemb
 er und Januar Schulführungen für dich und deine Eltern an!</strong></p><p>W
 ir stellen dabei dir und deinen Eltern die HAK, HLW und HTL vor und bieten 
 euch dabei neben allgemeinen Informationen über die Schule bzw. die Ausbild
 ungsmöglichkeiten auch eine <strong>Schulführung vor Ort</strong> an.</p><p
 >Danach stehen wir für Fragen gerne zur Verfügung.</p><p>Aufgrund der derze
 itigen "Corona-Situation" achten wir dabei auf die vorgeschriebenen Abstand
 s- und Hygienerichtlinien (bitte FFP2-Maske mitnehmen) und heißen deshalb <
 strong>pro Führung max. 10 Personen</strong> gleichzeitig willkommen. Wir b
 itten dich und deine Eltern einen 3G Nachweis mitzuführen.</p><p>Wir bitten
  weiters um telefonische <strong>Voranmeldung</strong> oder <strong>EMAIL <
 span id="cloak337e890d77dc191d9bd288679329405a"><a href="mailto:hak-hlw-reu
 tte@tsn.at"></a><span id="cloakf06a9f7c1000dc9c4c4c7d99b52a910d">Diese E-Ma
 il-Adresse ist vor Spambots geschützt! Zur Anzeige muss JavaScript eingesch
 altet sein!</span><script type='text/javascript'>
				document.getElementBy
 Id('cloakf06a9f7c1000dc9c4c4c7d99b52a910d').innerHTML = '';
				var prefix 
 = '&#109;a' + 'i&#108;' + '&#116;o';
				var path = 'hr' + 'ef' + '=';
				
 var addyf06a9f7c1000dc9c4c4c7d99b52a910d = 'h&#97;k-hlw-r&#101;&#117;tt&#10
 1;' + '&#64;';
				addyf06a9f7c1000dc9c4c4c7d99b52a910d = addyf06a9f7c1000d
 c9c4c4c7d99b52a910d + 'tsn' + '&#46;' + '&#97;t';
				var addy_textf06a9f7c
 1000dc9c4c4c7d99b52a910d = 'h&#97;k-hlw-r&#101;&#117;tt&#101;' + '&#64;' + 
 'tsn' + '&#46;' + '&#97;t';document.getElementById('cloakf06a9f7c1000dc9c4c
 4c7d99b52a910d').innerHTML += '<a ' + path + '\'' + prefix + ':' + addyf06a
 9f7c1000dc9c4c4c7d99b52a910d + '\'>'+addy_textf06a9f7c1000dc9c4c4c7d99b52a9
 10d+'<\/a>';
		</script></span> !</strong></p>
DTSTAMP:20260425T204252
DTSTART:20211215T170000
DTEND:20211215T180000
SEQUENCE:0
TRANSP:OPAQUE
END:VEVENT
END:VCALENDAR