BEGIN:VCALENDAR
VERSION:2.0
PRODID:-//jEvents 2.0 for Joomla//EN
CALSCALE:GREGORIAN
METHOD:PUBLISH
BEGIN:VEVENT
UID:04f941a01b014caee940ef32a3a38f54
CATEGORIES:Veranstaltungen
CREATED:20211118T105805
SUMMARY:praktische Vorprüfungen 4wa und 4wb
DESCRIPTION:
DTSTAMP:20260425T204041
DTSTART:20220518T060000
DTEND:20220525T150000
SEQUENCE:0
TRANSP:OPAQUE
END:VEVENT
END:VCALENDAR