BEGIN:VCALENDAR
VERSION:2.0
PRODID:-//jEvents 2.0 for Joomla//EN
CALSCALE:GREGORIAN
METHOD:PUBLISH
BEGIN:VEVENT
UID:ff9fa2793bccee39b47c8d64647ad09a
CATEGORIES:Veranstaltungen
CREATED:20211118T105708
SUMMARY:Klassenkonferenz 3wb
DESCRIPTION:
DTSTAMP:20260425T204136
DTSTART:20220524T124500
DTEND:20220524T133000
SEQUENCE:0
TRANSP:OPAQUE
END:VEVENT
END:VCALENDAR