BEGIN:VCALENDAR
VERSION:2.0
PRODID:-//jEvents 2.0 for Joomla//EN
CALSCALE:GREGORIAN
METHOD:PUBLISH
BEGIN:VEVENT
UID:7b1439df4109a39163b1ebc92a18e078
CATEGORIES:Veranstaltungen
CREATED:20211118T105452
SUMMARY:Notenschluss 3wa und 3wb
DESCRIPTION:
DTSTAMP:20260425T204153
DTSTART:20220524T060000
DTEND:20220524T100000
SEQUENCE:0
TRANSP:OPAQUE
END:VEVENT
END:VCALENDAR