BEGIN:VCALENDAR
VERSION:2.0
PRODID:-//jEvents 2.0 for Joomla//EN
CALSCALE:GREGORIAN
METHOD:PUBLISH
BEGIN:VEVENT
UID:edece31c2821efb75587377099a6e570
CATEGORIES:Veranstaltungen
CREATED:20211118T105206
SUMMARY:Kompensationsprüfungen 3s
DESCRIPTION:
DTSTAMP:20260425T222235
DTSTART:20220608T060000
DTEND:20220608T150000
SEQUENCE:0
TRANSP:OPAQUE
END:VEVENT
END:VCALENDAR