BEGIN:VCALENDAR
VERSION:2.0
PRODID:-//jEvents 2.0 for Joomla//EN
CALSCALE:GREGORIAN
METHOD:PUBLISH
BEGIN:VEVENT
UID:0c235051df73692c1e0a992efa62ad32
CATEGORIES:Veranstaltungen
CREATED:20211118T105133
SUMMARY:Konferenz der PrüferInnen AP 3s
DESCRIPTION:
DTSTAMP:20260425T204138
DTSTART:20220525T121500
DTEND:20220525T130000
SEQUENCE:0
TRANSP:OPAQUE
END:VEVENT
END:VCALENDAR