BEGIN:VCALENDAR
VERSION:2.0
PRODID:-//jEvents 2.0 for Joomla//EN
CALSCALE:GREGORIAN
METHOD:PUBLISH
BEGIN:VEVENT
UID:61ddd5a18339c4e3b99ce4c44d23004e
CATEGORIES:Veranstaltungen
CREATED:20211118T105053
SUMMARY:Abgabe der korrigierten Arbeiten 3s
DESCRIPTION:
DTSTAMP:20260425T204347
DTSTART:20220524T060000
DTEND:20220524T100000
SEQUENCE:0
TRANSP:OPAQUE
END:VEVENT
END:VCALENDAR