BEGIN:VCALENDAR
VERSION:2.0
PRODID:-//jEvents 2.0 for Joomla//EN
CALSCALE:GREGORIAN
METHOD:PUBLISH
BEGIN:VEVENT
UID:07a55ef1ef65935896c5571a84e4c8ce
CATEGORIES:Veranstaltungen
CREATED:20211118T105009
SUMMARY:schriftliche Abschlussprüfung 3s ÜFA
DESCRIPTION:
DTSTAMP:20260425T204153
DTSTART:20220518T060000
DTEND:20220518T110000
SEQUENCE:0
TRANSP:OPAQUE
END:VEVENT
END:VCALENDAR