BEGIN:VCALENDAR
VERSION:2.0
PRODID:-//jEvents 2.0 for Joomla//EN
CALSCALE:GREGORIAN
METHOD:PUBLISH
BEGIN:VEVENT
UID:a70bc648343a3f7d9bf353e156138d37
CATEGORIES:Veranstaltungen
CREATED:20211118T104830
SUMMARY:letzte Schultag 3s
DESCRIPTION:
DTSTAMP:20260425T204350
DTSTART:20220513T060000
DTEND:20220513T150000
SEQUENCE:0
TRANSP:OPAQUE
END:VEVENT
END:VCALENDAR