BEGIN:VCALENDAR
VERSION:2.0
PRODID:-//jEvents 2.0 for Joomla//EN
CALSCALE:GREGORIAN
METHOD:PUBLISH
BEGIN:VEVENT
UID:9b1df655478369c3a8252f8ad7329fd5
CATEGORIES:Veranstaltungen
CREATED:20211118T104753
SUMMARY:Wiederholungsprüfungen 3s
DESCRIPTION:
DTSTAMP:20260425T204250
DTSTART:20220513T060000
DTEND:20220513T080000
SEQUENCE:0
TRANSP:OPAQUE
END:VEVENT
END:VCALENDAR