BEGIN:VCALENDAR
VERSION:2.0
PRODID:-//jEvents 2.0 for Joomla//EN
CALSCALE:GREGORIAN
METHOD:PUBLISH
BEGIN:VEVENT
UID:7f8ebc3506be3daffef7939cc792e866
CATEGORIES:Veranstaltungen
CREATED:20211118T104723
SUMMARY:Coachingtage für schriftliche Abschlussprüfung 3s
DESCRIPTION:
DTSTAMP:20260425T204250
DTSTART:20220509T060000
DTEND:20220512T150000
SEQUENCE:0
TRANSP:OPAQUE
END:VEVENT
END:VCALENDAR