BEGIN:VCALENDAR
VERSION:2.0
PRODID:-//jEvents 2.0 for Joomla//EN
CALSCALE:GREGORIAN
METHOD:PUBLISH
BEGIN:VEVENT
UID:8addf1412449d91b91bbc64c692195e6
CATEGORIES:Veranstaltungen
CREATED:20211118T104544
SUMMARY:Klassenkonferenz 3s
DESCRIPTION:
DTSTAMP:20260425T204514
DTSTART:20220506T060000
DTEND:20220506T120000
SEQUENCE:0
TRANSP:OPAQUE
END:VEVENT
END:VCALENDAR