BEGIN:VCALENDAR
VERSION:2.0
PRODID:-//jEvents 2.0 for Joomla//EN
CALSCALE:GREGORIAN
METHOD:PUBLISH
BEGIN:VEVENT
UID:20556f1ad35b305ee6f3f8fd83e3f71b
CATEGORIES:Veranstaltungen
CREATED:20211118T104508
SUMMARY:Notenschluss 3s
DESCRIPTION:
DTSTAMP:20260425T204044
DTSTART:20220506T060000
DTEND:20220506T150000
SEQUENCE:0
TRANSP:OPAQUE
END:VEVENT
END:VCALENDAR